BEGIN:VCALENDAR
VERSION:2.0
PRODID:-//Ebenezer UMC - ECPv6.13.1//NONSGML v1.0//EN
CALSCALE:GREGORIAN
METHOD:PUBLISH
X-WR-CALNAME:Ebenezer UMC
X-ORIGINAL-URL:https://www.ebenezerumchurch.org
X-WR-CALDESC:Events for Ebenezer UMC
REFRESH-INTERVAL;VALUE=DURATION:PT1H
X-Robots-Tag:noindex
X-PUBLISHED-TTL:PT1H
BEGIN:VTIMEZONE
TZID:America/New_York
BEGIN:DAYLIGHT
TZOFFSETFROM:-0500
TZOFFSETTO:-0400
TZNAME:EDT
DTSTART:20250309T070000
END:DAYLIGHT
BEGIN:STANDARD
TZOFFSETFROM:-0400
TZOFFSETTO:-0500
TZNAME:EST
DTSTART:20251102T060000
END:STANDARD
END:VTIMEZONE
BEGIN:VEVENT
DTSTART;TZID=America/New_York:20251102T083000
DTEND;TZID=America/New_York:20251102T093000
DTSTAMP:20260419T122640
CREATED:20250925T163905Z
LAST-MODIFIED:20250925T163911Z
UID:4256-1762072200-1762075800@www.ebenezerumchurch.org
SUMMARY:Worship
DESCRIPTION:DOWNLOAD THE SUNDAY BULLETIN HERE \nSTREAM THE SERVICE HERE
URL:https://www.ebenezerumchurch.org/event/worship-06-01-25-3-2-2-2-2-2-2-2-2-2-2-2-2-2-2-4-2-2-2-2-2-2-2/
LOCATION:Winfield Community Volunteer Fire Department\, 1320 West Old Liberty Road\, Sykesville\, MD\, 21784\, United States
CATEGORIES:Worship Services
END:VEVENT
BEGIN:VEVENT
DTSTART;TZID=America/New_York:20251102T093000
DTEND;TZID=America/New_York:20251102T103000
DTSTAMP:20260419T122640
CREATED:20250925T164012Z
LAST-MODIFIED:20250925T164018Z
UID:4258-1762075800-1762079400@www.ebenezerumchurch.org
SUMMARY:Sunday School-For all Ages
DESCRIPTION:DOWNLOAD THE SUNDAY BULLETIN HERE \nSTREAM THE SERVICE HERE
URL:https://www.ebenezerumchurch.org/event/worship-06-01-25-3-2-2-2-2-2-2-2-2-2-2-2-2-2-2-2-2-2-2-2-2-2-2-2/
LOCATION:Winfield Community Volunteer Fire Department\, 1320 West Old Liberty Road\, Sykesville\, MD\, 21784\, United States
CATEGORIES:Worship Services
END:VEVENT
BEGIN:VEVENT
DTSTART;TZID=America/New_York:20251102T110000
DTEND;TZID=America/New_York:20251102T120000
DTSTAMP:20260419T122640
CREATED:20250925T164124Z
LAST-MODIFIED:20250925T164124Z
UID:4260-1762081200-1762084800@www.ebenezerumchurch.org
SUMMARY:Worship
DESCRIPTION:DOWNLOAD THE SUNDAY BULLETIN HERE \nSTREAM THE SERVICE HERE
URL:https://www.ebenezerumchurch.org/event/worship-06-01-25-3-2-2-2-2-2-2-2-2-2-2-2-2-2-2-3-3-2-2-2-2-2-2/
LOCATION:Winfield Community Volunteer Fire Department\, 1320 West Old Liberty Road\, Sykesville\, MD\, 21784\, United States
CATEGORIES:Worship Services
END:VEVENT
BEGIN:VEVENT
DTSTART;TZID=America/New_York:20251109T083000
DTEND;TZID=America/New_York:20251109T093000
DTSTAMP:20260419T122640
CREATED:20250925T164236Z
LAST-MODIFIED:20250925T164241Z
UID:4262-1762677000-1762680600@www.ebenezerumchurch.org
SUMMARY:Worship
DESCRIPTION:DOWNLOAD THE SUNDAY BULLETIN HERE \nSTREAM THE SERVICE HERE
URL:https://www.ebenezerumchurch.org/event/worship-06-01-25-3-2-2-2-2-2-2-2-2-2-2-2-2-2-2-4-2-2-2-2-2-2-2-2/
LOCATION:Winfield Community Volunteer Fire Department\, 1320 West Old Liberty Road\, Sykesville\, MD\, 21784\, United States
CATEGORIES:Worship Services
END:VEVENT
BEGIN:VEVENT
DTSTART;TZID=America/New_York:20251109T093000
DTEND;TZID=America/New_York:20251109T103000
DTSTAMP:20260419T122640
CREATED:20250925T164347Z
LAST-MODIFIED:20250925T164353Z
UID:4264-1762680600-1762684200@www.ebenezerumchurch.org
SUMMARY:Sunday School-For all Ages
DESCRIPTION:DOWNLOAD THE SUNDAY BULLETIN HERE \nSTREAM THE SERVICE HERE
URL:https://www.ebenezerumchurch.org/event/worship-06-01-25-3-2-2-2-2-2-2-2-2-2-2-2-2-2-2-2-2-2-2-2-2-2-2-2-2/
LOCATION:Winfield Community Volunteer Fire Department\, 1320 West Old Liberty Road\, Sykesville\, MD\, 21784\, United States
CATEGORIES:Worship Services
END:VEVENT
BEGIN:VEVENT
DTSTART;TZID=America/New_York:20251109T110000
DTEND;TZID=America/New_York:20251109T120000
DTSTAMP:20260419T122640
CREATED:20250925T164501Z
LAST-MODIFIED:20250925T164507Z
UID:4266-1762686000-1762689600@www.ebenezerumchurch.org
SUMMARY:Worship
DESCRIPTION:DOWNLOAD THE SUNDAY BULLETIN HERE \nSTREAM THE SERVICE HERE
URL:https://www.ebenezerumchurch.org/event/worship-06-01-25-3-2-2-2-2-2-2-2-2-2-2-2-2-2-2-3-3-2-2-2-2-2-2-2/
LOCATION:Winfield Community Volunteer Fire Department\, 1320 West Old Liberty Road\, Sykesville\, MD\, 21784\, United States
CATEGORIES:Worship Services
END:VEVENT
BEGIN:VEVENT
DTSTART;TZID=America/New_York:20251116T083000
DTEND;TZID=America/New_York:20251116T093000
DTSTAMP:20260419T122640
CREATED:20250925T164940Z
LAST-MODIFIED:20250925T164945Z
UID:4270-1763281800-1763285400@www.ebenezerumchurch.org
SUMMARY:Worship
DESCRIPTION:DOWNLOAD THE SUNDAY BULLETIN HERE \nSTREAM THE SERVICE HERE
URL:https://www.ebenezerumchurch.org/event/worship-06-01-25-3-2-2-2-2-2-2-2-2-2-2-2-2-2-2-4-2-2-2-2-2-2-2-2-2/
LOCATION:Winfield Community Volunteer Fire Department\, 1320 West Old Liberty Road\, Sykesville\, MD\, 21784\, United States
CATEGORIES:Worship Services
END:VEVENT
BEGIN:VEVENT
DTSTART;TZID=America/New_York:20251116T093000
DTEND;TZID=America/New_York:20251116T103000
DTSTAMP:20260419T122640
CREATED:20250925T165048Z
LAST-MODIFIED:20250925T165055Z
UID:4272-1763285400-1763289000@www.ebenezerumchurch.org
SUMMARY:Sunday School-For all Ages
DESCRIPTION:DOWNLOAD THE SUNDAY BULLETIN HERE \nSTREAM THE SERVICE HERE
URL:https://www.ebenezerumchurch.org/event/worship-06-01-25-3-2-2-2-2-2-2-2-2-2-2-2-2-2-2-2-2-2-2-2-2-2-2-2-2-2/
LOCATION:Winfield Community Volunteer Fire Department\, 1320 West Old Liberty Road\, Sykesville\, MD\, 21784\, United States
CATEGORIES:Worship Services
END:VEVENT
BEGIN:VEVENT
DTSTART;TZID=America/New_York:20251116T110000
DTEND;TZID=America/New_York:20251116T120000
DTSTAMP:20260419T122640
CREATED:20250925T165159Z
LAST-MODIFIED:20250925T165211Z
UID:4274-1763290800-1763294400@www.ebenezerumchurch.org
SUMMARY:Worship
DESCRIPTION:DOWNLOAD THE SUNDAY BULLETIN HERE \nSTREAM THE SERVICE HERE
URL:https://www.ebenezerumchurch.org/event/worship-06-01-25-3-2-2-2-2-2-2-2-2-2-2-2-2-2-2-3-3-2-2-2-2-2-2-2-2/
LOCATION:Winfield Community Volunteer Fire Department\, 1320 West Old Liberty Road\, Sykesville\, MD\, 21784\, United States
CATEGORIES:Worship Services
END:VEVENT
BEGIN:VEVENT
DTSTART;TZID=America/New_York:20251123T083000
DTEND;TZID=America/New_York:20251123T093000
DTSTAMP:20260419T122640
CREATED:20250925T165559Z
LAST-MODIFIED:20250925T165605Z
UID:4276-1763886600-1763890200@www.ebenezerumchurch.org
SUMMARY:Worship
DESCRIPTION:DOWNLOAD THE SUNDAY BULLETIN HERE \nSTREAM THE SERVICE HERE
URL:https://www.ebenezerumchurch.org/event/worship-06-01-25-3-2-2-2-2-2-2-2-2-2-2-2-2-2-2-4-2-2-2-2-2-2-2-2-2-2/
LOCATION:Winfield Community Volunteer Fire Department\, 1320 West Old Liberty Road\, Sykesville\, MD\, 21784\, United States
CATEGORIES:Worship Services
END:VEVENT
BEGIN:VEVENT
DTSTART;TZID=America/New_York:20251123T093000
DTEND;TZID=America/New_York:20251123T103000
DTSTAMP:20260419T122640
CREATED:20250925T165714Z
LAST-MODIFIED:20250925T165720Z
UID:4278-1763890200-1763893800@www.ebenezerumchurch.org
SUMMARY:Sunday School-For all Ages
DESCRIPTION:DOWNLOAD THE SUNDAY BULLETIN HERE \nSTREAM THE SERVICE HERE
URL:https://www.ebenezerumchurch.org/event/worship-06-01-25-3-2-2-2-2-2-2-2-2-2-2-2-2-2-2-2-2-2-2-2-2-2-2-2-2-2-2/
LOCATION:Winfield Community Volunteer Fire Department\, 1320 West Old Liberty Road\, Sykesville\, MD\, 21784\, United States
CATEGORIES:Worship Services
END:VEVENT
BEGIN:VEVENT
DTSTART;TZID=America/New_York:20251123T110000
DTEND;TZID=America/New_York:20251123T120000
DTSTAMP:20260419T122640
CREATED:20250925T165822Z
LAST-MODIFIED:20250925T165828Z
UID:4280-1763895600-1763899200@www.ebenezerumchurch.org
SUMMARY:Worship
DESCRIPTION:DOWNLOAD THE SUNDAY BULLETIN HERE \nSTREAM THE SERVICE HERE
URL:https://www.ebenezerumchurch.org/event/worship-06-01-25-3-2-2-2-2-2-2-2-2-2-2-2-2-2-2-3-3-2-2-2-2-2-2-2-2-2/
LOCATION:Winfield Community Volunteer Fire Department\, 1320 West Old Liberty Road\, Sykesville\, MD\, 21784\, United States
CATEGORIES:Worship Services
END:VEVENT
BEGIN:VEVENT
DTSTART;TZID=America/New_York:20251130T083000
DTEND;TZID=America/New_York:20251130T093000
DTSTAMP:20260419T122640
CREATED:20250925T165925Z
LAST-MODIFIED:20250925T165933Z
UID:4282-1764491400-1764495000@www.ebenezerumchurch.org
SUMMARY:Worship
DESCRIPTION:DOWNLOAD THE SUNDAY BULLETIN HERE \nSTREAM THE SERVICE HERE
URL:https://www.ebenezerumchurch.org/event/worship-06-01-25-3-2-2-2-2-2-2-2-2-2-2-2-2-2-2-4-2-2-2-2-2-2-2-2-2-2-2/
LOCATION:Winfield Community Volunteer Fire Department\, 1320 West Old Liberty Road\, Sykesville\, MD\, 21784\, United States
CATEGORIES:Worship Services
END:VEVENT
BEGIN:VEVENT
DTSTART;TZID=America/New_York:20251130T093000
DTEND;TZID=America/New_York:20251130T103000
DTSTAMP:20260419T122640
CREATED:20250925T170031Z
LAST-MODIFIED:20250925T170039Z
UID:4284-1764495000-1764498600@www.ebenezerumchurch.org
SUMMARY:Sunday School-For all Ages
DESCRIPTION:DOWNLOAD THE SUNDAY BULLETIN HERE \nSTREAM THE SERVICE HERE
URL:https://www.ebenezerumchurch.org/event/worship-06-01-25-3-2-2-2-2-2-2-2-2-2-2-2-2-2-2-2-2-2-2-2-2-2-2-2-2-2-2-2/
LOCATION:Winfield Community Volunteer Fire Department\, 1320 West Old Liberty Road\, Sykesville\, MD\, 21784\, United States
CATEGORIES:Worship Services
END:VEVENT
BEGIN:VEVENT
DTSTART;TZID=America/New_York:20251130T110000
DTEND;TZID=America/New_York:20251130T120000
DTSTAMP:20260419T122640
CREATED:20250925T170140Z
LAST-MODIFIED:20250925T170148Z
UID:4286-1764500400-1764504000@www.ebenezerumchurch.org
SUMMARY:Worship
DESCRIPTION:DOWNLOAD THE SUNDAY BULLETIN HERE \nSTREAM THE SERVICE HERE
URL:https://www.ebenezerumchurch.org/event/worship-06-01-25-3-2-2-2-2-2-2-2-2-2-2-2-2-2-2-3-3-2-2-2-2-2-2-2-2-2-2/
LOCATION:Winfield Community Volunteer Fire Department\, 1320 West Old Liberty Road\, Sykesville\, MD\, 21784\, United States
CATEGORIES:Worship Services
END:VEVENT
END:VCALENDAR