BEGIN:VCALENDAR
VERSION:2.0
PRODID:-//Ebenezer UMC - ECPv6.13.1//NONSGML v1.0//EN
CALSCALE:GREGORIAN
METHOD:PUBLISH
X-WR-CALNAME:Ebenezer UMC
X-ORIGINAL-URL:https://www.ebenezerumchurch.org
X-WR-CALDESC:Events for Ebenezer UMC
REFRESH-INTERVAL;VALUE=DURATION:PT1H
X-Robots-Tag:noindex
X-PUBLISHED-TTL:PT1H
BEGIN:VTIMEZONE
TZID:America/New_York
BEGIN:DAYLIGHT
TZOFFSETFROM:-0500
TZOFFSETTO:-0400
TZNAME:EDT
DTSTART:20250309T070000
END:DAYLIGHT
BEGIN:STANDARD
TZOFFSETFROM:-0400
TZOFFSETTO:-0500
TZNAME:EST
DTSTART:20251102T060000
END:STANDARD
END:VTIMEZONE
BEGIN:VEVENT
DTSTART;TZID=America/New_York:20250504T083000
DTEND;TZID=America/New_York:20250504T093000
DTSTAMP:20260419T222751
CREATED:20250430T141309Z
LAST-MODIFIED:20250430T141332Z
UID:3931-1746347400-1746351000@www.ebenezerumchurch.org
SUMMARY:Worship
DESCRIPTION:DOWNLOAD THE SUNDAY BULLETIN HERE \nSTREAM THE SERVICE HERE
URL:https://www.ebenezerumchurch.org/event/worship-04-27-2-2/
LOCATION:Winfield Community Volunteer Fire Department\, 1320 West Old Liberty Road\, Sykesville\, MD\, 21784\, United States
CATEGORIES:Worship Services
END:VEVENT
BEGIN:VEVENT
DTSTART;TZID=America/New_York:20250504T083000
DTEND;TZID=America/New_York:20250504T093000
DTSTAMP:20260419T222751
CREATED:20250430T162055Z
LAST-MODIFIED:20250430T162124Z
UID:3970-1746347400-1746351000@www.ebenezerumchurch.org
SUMMARY:Sunday School
DESCRIPTION:Join us for Sunday School – all ages!
URL:https://www.ebenezerumchurch.org/event/ss05-04-25-2/
LOCATION:MD
CATEGORIES:Worship Services
END:VEVENT
BEGIN:VEVENT
DTSTART;TZID=America/New_York:20250504T110000
DTEND;TZID=America/New_York:20250504T120000
DTSTAMP:20260419T222751
CREATED:20250430T141920Z
LAST-MODIFIED:20250430T141933Z
UID:3934-1746356400-1746360000@www.ebenezerumchurch.org
SUMMARY:Worship
DESCRIPTION:DOWNLOAD THE SUNDAY BULLETIN HERE \nSTREAM THE SERVICE HERE
URL:https://www.ebenezerumchurch.org/event/worship-04-27-2-3/
LOCATION:Winfield Community Volunteer Fire Department\, 1320 West Old Liberty Road\, Sykesville\, MD\, 21784\, United States
CATEGORIES:Worship Services
END:VEVENT
BEGIN:VEVENT
DTSTART;TZID=America/New_York:20250511T083000
DTEND;TZID=America/New_York:20250511T093000
DTSTAMP:20260419T222751
CREATED:20250430T155336Z
LAST-MODIFIED:20250430T155401Z
UID:3958-1746952200-1746955800@www.ebenezerumchurch.org
SUMMARY:Worship
DESCRIPTION:DOWNLOAD THE SUNDAY BULLETIN HERE \nSTREAM THE SERVICE HERE
URL:https://www.ebenezerumchurch.org/event/worship-05-11-2-3-2-2/
LOCATION:Winfield Community Volunteer Fire Department\, 1320 West Old Liberty Road\, Sykesville\, MD\, 21784\, United States
CATEGORIES:Worship Services
END:VEVENT
BEGIN:VEVENT
DTSTART;TZID=America/New_York:20250511T083000
DTEND;TZID=America/New_York:20250511T093000
DTSTAMP:20260419T222751
CREATED:20250430T163422Z
LAST-MODIFIED:20250430T163506Z
UID:3974-1746952200-1746955800@www.ebenezerumchurch.org
SUMMARY:Sunday School
DESCRIPTION:Join us for Sunday School – all ages!
URL:https://www.ebenezerumchurch.org/event/ss05-04-11-25-2/
LOCATION:MD
CATEGORIES:Worship Services
END:VEVENT
BEGIN:VEVENT
DTSTART;TZID=America/New_York:20250511T110000
DTEND;TZID=America/New_York:20250511T120000
DTSTAMP:20260419T222751
CREATED:20250430T145032Z
LAST-MODIFIED:20250430T145118Z
UID:3944-1746961200-1746964800@www.ebenezerumchurch.org
SUMMARY:Worship
DESCRIPTION:DOWNLOAD THE SUNDAY BULLETIN HERE \nSTREAM THE SERVICE HERE
URL:https://www.ebenezerumchurch.org/event/worship-05-11-2-3-2/
LOCATION:Winfield Community Volunteer Fire Department\, 1320 West Old Liberty Road\, Sykesville\, MD\, 21784\, United States
CATEGORIES:Worship Services
END:VEVENT
BEGIN:VEVENT
DTSTART;TZID=America/New_York:20250518T083000
DTEND;TZID=America/New_York:20250518T093000
DTSTAMP:20260419T222751
CREATED:20250430T160349Z
LAST-MODIFIED:20250430T160443Z
UID:3962-1747557000-1747560600@www.ebenezerumchurch.org
SUMMARY:Worship
DESCRIPTION:DOWNLOAD THE SUNDAY BULLETIN HERE \nSTREAM THE SERVICE HERE
URL:https://www.ebenezerumchurch.org/event/worship-05-18-2-3-2-2/
LOCATION:Winfield Community Volunteer Fire Department\, 1320 West Old Liberty Road\, Sykesville\, MD\, 21784\, United States
CATEGORIES:Worship Services
END:VEVENT
BEGIN:VEVENT
DTSTART;TZID=America/New_York:20250518T083000
DTEND;TZID=America/New_York:20250518T093000
DTSTAMP:20260419T222751
CREATED:20250430T163737Z
LAST-MODIFIED:20250430T163804Z
UID:3976-1747557000-1747560600@www.ebenezerumchurch.org
SUMMARY:Sunday School
DESCRIPTION:Join us for Sunday School – all ages!
URL:https://www.ebenezerumchurch.org/event/ss05-04-18-25-2/
LOCATION:MD
CATEGORIES:Worship Services
END:VEVENT
BEGIN:VEVENT
DTSTART;TZID=America/New_York:20250518T110000
DTEND;TZID=America/New_York:20250518T120000
DTSTAMP:20260419T222751
CREATED:20250430T154747Z
LAST-MODIFIED:20250430T154828Z
UID:3956-1747566000-1747569600@www.ebenezerumchurch.org
SUMMARY:Worship
DESCRIPTION:DOWNLOAD THE SUNDAY BULLETIN HERE \nSTREAM THE SERVICE HERE
URL:https://www.ebenezerumchurch.org/event/worship-05-18-2-3-2/
LOCATION:Winfield Community Volunteer Fire Department\, 1320 West Old Liberty Road\, Sykesville\, MD\, 21784\, United States
CATEGORIES:Worship Services
END:VEVENT
BEGIN:VEVENT
DTSTART;TZID=America/New_York:20250525T083000
DTEND;TZID=America/New_York:20250525T093000
DTSTAMP:20260419T222751
CREATED:20250430T161241Z
LAST-MODIFIED:20250430T161303Z
UID:3966-1748161800-1748165400@www.ebenezerumchurch.org
SUMMARY:Worship
DESCRIPTION:DOWNLOAD THE SUNDAY BULLETIN HERE \nSTREAM THE SERVICE HERE
URL:https://www.ebenezerumchurch.org/event/worship-05-25-2-3-2-2/
LOCATION:Winfield Community Volunteer Fire Department\, 1320 West Old Liberty Road\, Sykesville\, MD\, 21784\, United States
CATEGORIES:Worship Services
END:VEVENT
BEGIN:VEVENT
DTSTART;TZID=America/New_York:20250525T083000
DTEND;TZID=America/New_York:20250525T093000
DTSTAMP:20260419T222751
CREATED:20250430T164049Z
LAST-MODIFIED:20250430T164116Z
UID:3978-1748161800-1748165400@www.ebenezerumchurch.org
SUMMARY:Sunday School
DESCRIPTION:Join us for Sunday School – all ages!
URL:https://www.ebenezerumchurch.org/event/ss05-04-25-25-2/
LOCATION:MD
CATEGORIES:Worship Services
END:VEVENT
BEGIN:VEVENT
DTSTART;TZID=America/New_York:20250525T110000
DTEND;TZID=America/New_York:20250525T120000
DTSTAMP:20260419T222751
CREATED:20250430T160908Z
LAST-MODIFIED:20250430T160945Z
UID:3964-1748170800-1748174400@www.ebenezerumchurch.org
SUMMARY:Worship
DESCRIPTION:DOWNLOAD THE SUNDAY BULLETIN HERE \nSTREAM THE SERVICE HERE
URL:https://www.ebenezerumchurch.org/event/worship-05-25-2-3-2/
LOCATION:Winfield Community Volunteer Fire Department\, 1320 West Old Liberty Road\, Sykesville\, MD\, 21784\, United States
CATEGORIES:Worship Services
END:VEVENT
END:VCALENDAR