BEGIN:VCALENDAR
VERSION:2.0
PRODID:-//Ebenezer UMC - ECPv6.13.1//NONSGML v1.0//EN
CALSCALE:GREGORIAN
METHOD:PUBLISH
X-WR-CALNAME:Ebenezer UMC
X-ORIGINAL-URL:https://www.ebenezerumchurch.org
X-WR-CALDESC:Events for Ebenezer UMC
REFRESH-INTERVAL;VALUE=DURATION:PT1H
X-Robots-Tag:noindex
X-PUBLISHED-TTL:PT1H
BEGIN:VTIMEZONE
TZID:America/New_York
BEGIN:DAYLIGHT
TZOFFSETFROM:-0500
TZOFFSETTO:-0400
TZNAME:EDT
DTSTART:20240310T070000
END:DAYLIGHT
BEGIN:STANDARD
TZOFFSETFROM:-0400
TZOFFSETTO:-0500
TZNAME:EST
DTSTART:20241103T060000
END:STANDARD
END:VTIMEZONE
BEGIN:VEVENT
DTSTART;TZID=America/New_York:20240505T083000
DTEND;TZID=America/New_York:20240505T093000
DTSTAMP:20260422T170708
CREATED:20240411T160944Z
LAST-MODIFIED:20240411T160944Z
UID:3622-1714897800-1714901400@www.ebenezerumchurch.org
SUMMARY:Worship
DESCRIPTION:DOWNLOAD THE SUNDAY BULLETIN HERE
URL:https://www.ebenezerumchurch.org/event/worship-05-05-1/
LOCATION:Winfield Community Volunteer Fire Department\, 1320 West Old Liberty Road\, Sykesville\, MD\, 21784\, United States
CATEGORIES:Worship Services
END:VEVENT
BEGIN:VEVENT
DTSTART;TZID=America/New_York:20240505T110000
DTEND;TZID=America/New_York:20240505T120000
DTSTAMP:20260422T170708
CREATED:20240411T161103Z
LAST-MODIFIED:20240411T161103Z
UID:3626-1714906800-1714910400@www.ebenezerumchurch.org
SUMMARY:Worship
DESCRIPTION:DOWNLOAD THE SUNDAY BULLETIN HERE \nSTREAM THE SERVICE HERE
URL:https://www.ebenezerumchurch.org/event/worship-05-05-2/
LOCATION:Winfield Community Volunteer Fire Department\, 1320 West Old Liberty Road\, Sykesville\, MD\, 21784\, United States
CATEGORIES:Worship Services
END:VEVENT
BEGIN:VEVENT
DTSTART;TZID=America/New_York:20240519T083000
DTEND;TZID=America/New_York:20240519T093000
DTSTAMP:20260422T170708
CREATED:20240411T161318Z
LAST-MODIFIED:20240411T161319Z
UID:3634-1716107400-1716111000@www.ebenezerumchurch.org
SUMMARY:Worship
DESCRIPTION:DOWNLOAD THE SUNDAY BULLETIN HERE
URL:https://www.ebenezerumchurch.org/event/worship-05-19-1/
LOCATION:Winfield Community Volunteer Fire Department\, 1320 West Old Liberty Road\, Sykesville\, MD\, 21784\, United States
CATEGORIES:Worship Services
END:VEVENT
BEGIN:VEVENT
DTSTART;TZID=America/New_York:20240519T110000
DTEND;TZID=America/New_York:20240519T120000
DTSTAMP:20260422T170708
CREATED:20240411T161420Z
LAST-MODIFIED:20240411T161421Z
UID:3638-1716116400-1716120000@www.ebenezerumchurch.org
SUMMARY:Worship
DESCRIPTION:DOWNLOAD THE SUNDAY BULLETIN HERE \nSTREAM THE SERVICE HERE
URL:https://www.ebenezerumchurch.org/event/worship-05-19-2/
LOCATION:Winfield Community Volunteer Fire Department\, 1320 West Old Liberty Road\, Sykesville\, MD\, 21784\, United States
CATEGORIES:Worship Services
END:VEVENT
BEGIN:VEVENT
DTSTART;TZID=America/New_York:20240526T083000
DTEND;TZID=America/New_York:20240526T093000
DTSTAMP:20260422T170708
CREATED:20240411T161457Z
LAST-MODIFIED:20240411T161458Z
UID:3640-1716712200-1716715800@www.ebenezerumchurch.org
SUMMARY:Worship
DESCRIPTION:DOWNLOAD THE SUNDAY BULLETIN HERE
URL:https://www.ebenezerumchurch.org/event/worship-05-26-1/
LOCATION:Winfield Community Volunteer Fire Department\, 1320 West Old Liberty Road\, Sykesville\, MD\, 21784\, United States
CATEGORIES:Worship Services
END:VEVENT
BEGIN:VEVENT
DTSTART;TZID=America/New_York:20240526T110000
DTEND;TZID=America/New_York:20240526T120000
DTSTAMP:20260422T170708
CREATED:20240411T161559Z
LAST-MODIFIED:20240411T161600Z
UID:3644-1716721200-1716724800@www.ebenezerumchurch.org
SUMMARY:Worship
DESCRIPTION:DOWNLOAD THE SUNDAY BULLETIN HERE \nSTREAM THE SERVICE HERE
URL:https://www.ebenezerumchurch.org/event/worship-05-26-2/
LOCATION:Winfield Community Volunteer Fire Department\, 1320 West Old Liberty Road\, Sykesville\, MD\, 21784\, United States
CATEGORIES:Worship Services
END:VEVENT
END:VCALENDAR