BEGIN:VCALENDAR
VERSION:2.0
PRODID:-//Ebenezer UMC - ECPv6.13.1//NONSGML v1.0//EN
CALSCALE:GREGORIAN
METHOD:PUBLISH
X-WR-CALNAME:Ebenezer UMC
X-ORIGINAL-URL:https://www.ebenezerumchurch.org
X-WR-CALDESC:Events for Ebenezer UMC
REFRESH-INTERVAL;VALUE=DURATION:PT1H
X-Robots-Tag:noindex
X-PUBLISHED-TTL:PT1H
BEGIN:VTIMEZONE
TZID:America/New_York
BEGIN:DAYLIGHT
TZOFFSETFROM:-0500
TZOFFSETTO:-0400
TZNAME:EDT
DTSTART:20240310T070000
END:DAYLIGHT
BEGIN:STANDARD
TZOFFSETFROM:-0400
TZOFFSETTO:-0500
TZNAME:EST
DTSTART:20241103T060000
END:STANDARD
END:VTIMEZONE
BEGIN:VEVENT
DTSTART;TZID=America/New_York:20240331T063000
DTEND;TZID=America/New_York:20240331T073000
DTSTAMP:20260422T200939
CREATED:20240328T163202Z
LAST-MODIFIED:20240328T163204Z
UID:3583-1711866600-1711870200@www.ebenezerumchurch.org
SUMMARY:Easter Sunrise Service
DESCRIPTION:
URL:https://www.ebenezerumchurch.org/event/easter3-31/
LOCATION:Winfield Community Volunteer Fire Department\, 1320 West Old Liberty Road\, Sykesville\, MD\, 21784\, United States
CATEGORIES:Worship Services
END:VEVENT
BEGIN:VEVENT
DTSTART;TZID=America/New_York:20240331T083000
DTEND;TZID=America/New_York:20240331T093000
DTSTAMP:20260422T200939
CREATED:20240328T162625Z
LAST-MODIFIED:20240328T162628Z
UID:3577-1711873800-1711877400@www.ebenezerumchurch.org
SUMMARY:Worship
DESCRIPTION:DOWNLOAD THE SUNDAY BULLETIN HERE
URL:https://www.ebenezerumchurch.org/event/worship-3-31-1/
LOCATION:Winfield Community Volunteer Fire Department\, 1320 West Old Liberty Road\, Sykesville\, MD\, 21784\, United States
CATEGORIES:Worship Services
END:VEVENT
BEGIN:VEVENT
DTSTART;TZID=America/New_York:20240331T110000
DTEND;TZID=America/New_York:20240331T120000
DTSTAMP:20260422T200939
CREATED:20240328T162847Z
LAST-MODIFIED:20240328T162935Z
UID:3581-1711882800-1711886400@www.ebenezerumchurch.org
SUMMARY:Worship
DESCRIPTION:DOWNLOAD THE SUNDAY BULLETIN HERE \nSTREAM THE SERVICE HERE
URL:https://www.ebenezerumchurch.org/event/worship-3-31-2/
LOCATION:Winfield Community Volunteer Fire Department\, 1320 West Old Liberty Road\, Sykesville\, MD\, 21784\, United States
CATEGORIES:Worship Services
END:VEVENT
END:VCALENDAR