BEGIN:VCALENDAR
VERSION:2.0
PRODID:-//Ebenezer UMC - ECPv6.13.1//NONSGML v1.0//EN
CALSCALE:GREGORIAN
METHOD:PUBLISH
X-WR-CALNAME:Ebenezer UMC
X-ORIGINAL-URL:https://www.ebenezerumchurch.org
X-WR-CALDESC:Events for Ebenezer UMC
REFRESH-INTERVAL;VALUE=DURATION:PT1H
X-Robots-Tag:noindex
X-PUBLISHED-TTL:PT1H
BEGIN:VTIMEZONE
TZID:America/New_York
BEGIN:DAYLIGHT
TZOFFSETFROM:-0500
TZOFFSETTO:-0400
TZNAME:EDT
DTSTART:20240310T070000
END:DAYLIGHT
BEGIN:STANDARD
TZOFFSETFROM:-0400
TZOFFSETTO:-0500
TZNAME:EST
DTSTART:20241103T060000
END:STANDARD
END:VTIMEZONE
BEGIN:VEVENT
DTSTART;TZID=America/New_York:20240107T083000
DTEND;TZID=America/New_York:20240107T093000
DTSTAMP:20260422T225805
CREATED:20231228T035538Z
LAST-MODIFIED:20231228T035835Z
UID:3392-1704616200-1704619800@www.ebenezerumchurch.org
SUMMARY:Worship
DESCRIPTION:DOWNLOAD THE SUNDAY BULLETIN HERE
URL:https://www.ebenezerumchurch.org/event/worship-1-7-2/
LOCATION:Winfield Community Volunteer Fire Department\, 1320 West Old Liberty Road\, Sykesville\, MD\, 21784\, United States
CATEGORIES:Worship Services
END:VEVENT
BEGIN:VEVENT
DTSTART;TZID=America/New_York:20240107T110000
DTEND;TZID=America/New_York:20240107T120000
DTSTAMP:20260422T225805
CREATED:20231228T035415Z
LAST-MODIFIED:20240102T233624Z
UID:3386-1704625200-1704628800@www.ebenezerumchurch.org
SUMMARY:Worship
DESCRIPTION:DOWNLOAD THE SUNDAY BULLETIN HERE \nSTREAM THE SERVICE HERE
URL:https://www.ebenezerumchurch.org/event/worship-1-7/
LOCATION:Winfield Community Volunteer Fire Department\, 1320 West Old Liberty Road\, Sykesville\, MD\, 21784\, United States
CATEGORIES:Worship Services
END:VEVENT
BEGIN:VEVENT
DTSTART;TZID=America/New_York:20240114T083000
DTEND;TZID=America/New_York:20240114T093000
DTSTAMP:20260422T225805
CREATED:20231228T040051Z
LAST-MODIFIED:20231228T040052Z
UID:3402-1705221000-1705224600@www.ebenezerumchurch.org
SUMMARY:Worship
DESCRIPTION:DOWNLOAD THE SUNDAY BULLETIN HERE
URL:https://www.ebenezerumchurch.org/event/worship-1-14-1/
LOCATION:Winfield Community Volunteer Fire Department\, 1320 West Old Liberty Road\, Sykesville\, MD\, 21784\, United States
CATEGORIES:Worship Services
END:VEVENT
BEGIN:VEVENT
DTSTART;TZID=America/New_York:20240114T110000
DTEND;TZID=America/New_York:20240114T120000
DTSTAMP:20260422T225805
CREATED:20231228T040211Z
LAST-MODIFIED:20240102T233645Z
UID:3406-1705230000-1705233600@www.ebenezerumchurch.org
SUMMARY:Worship
DESCRIPTION:DOWNLOAD THE SUNDAY BULLETIN HERE \nSTREAM THE SERVICE HERE
URL:https://www.ebenezerumchurch.org/event/worship-1-14-2/
LOCATION:Winfield Community Volunteer Fire Department\, 1320 West Old Liberty Road\, Sykesville\, MD\, 21784\, United States
CATEGORIES:Worship Services
END:VEVENT
BEGIN:VEVENT
DTSTART;TZID=America/New_York:20240121T083000
DTEND;TZID=America/New_York:20240121T093000
DTSTAMP:20260422T225805
CREATED:20231228T040236Z
LAST-MODIFIED:20231228T040236Z
UID:3408-1705825800-1705829400@www.ebenezerumchurch.org
SUMMARY:Worship
DESCRIPTION:DOWNLOAD THE SUNDAY BULLETIN HERE
URL:https://www.ebenezerumchurch.org/event/worship-1-21-1/
LOCATION:Winfield Community Volunteer Fire Department\, 1320 West Old Liberty Road\, Sykesville\, MD\, 21784\, United States
CATEGORIES:Worship Services
END:VEVENT
BEGIN:VEVENT
DTSTART;TZID=America/New_York:20240121T110000
DTEND;TZID=America/New_York:20240121T120000
DTSTAMP:20260422T225805
CREATED:20231228T040320Z
LAST-MODIFIED:20240102T233704Z
UID:3412-1705834800-1705838400@www.ebenezerumchurch.org
SUMMARY:Worship
DESCRIPTION:DOWNLOAD THE SUNDAY BULLETIN HERE \nSTREAM THE SERVICE HERE
URL:https://www.ebenezerumchurch.org/event/worship-1-21-2/
LOCATION:Winfield Community Volunteer Fire Department\, 1320 West Old Liberty Road\, Sykesville\, MD\, 21784\, United States
CATEGORIES:Worship Services
END:VEVENT
BEGIN:VEVENT
DTSTART;TZID=America/New_York:20240128T083000
DTEND;TZID=America/New_York:20240128T093000
DTSTAMP:20260422T225805
CREATED:20231228T040345Z
LAST-MODIFIED:20231228T040345Z
UID:3414-1706430600-1706434200@www.ebenezerumchurch.org
SUMMARY:Worship
DESCRIPTION:DOWNLOAD THE SUNDAY BULLETIN HERE
URL:https://www.ebenezerumchurch.org/event/worship-1-28-1/
LOCATION:Winfield Community Volunteer Fire Department\, 1320 West Old Liberty Road\, Sykesville\, MD\, 21784\, United States
CATEGORIES:Worship Services
END:VEVENT
BEGIN:VEVENT
DTSTART;TZID=America/New_York:20240128T110000
DTEND;TZID=America/New_York:20240128T120000
DTSTAMP:20260422T225805
CREATED:20231228T040431Z
LAST-MODIFIED:20240102T233725Z
UID:3418-1706439600-1706443200@www.ebenezerumchurch.org
SUMMARY:Worship
DESCRIPTION:DOWNLOAD THE SUNDAY BULLETIN HERE \nSTREAM THE SERVICE HERE
URL:https://www.ebenezerumchurch.org/event/worship-1-28-2/
LOCATION:Winfield Community Volunteer Fire Department\, 1320 West Old Liberty Road\, Sykesville\, MD\, 21784\, United States
CATEGORIES:Worship Services
END:VEVENT
END:VCALENDAR