BEGIN:VCALENDAR
VERSION:2.0
PRODID:-//Ebenezer UMC - ECPv6.13.1//NONSGML v1.0//EN
CALSCALE:GREGORIAN
METHOD:PUBLISH
X-ORIGINAL-URL:https://www.ebenezerumchurch.org
X-WR-CALDESC:Events for Ebenezer UMC
REFRESH-INTERVAL;VALUE=DURATION:PT1H
X-Robots-Tag:noindex
X-PUBLISHED-TTL:PT1H
BEGIN:VTIMEZONE
TZID:America/New_York
BEGIN:DAYLIGHT
TZOFFSETFROM:-0500
TZOFFSETTO:-0400
TZNAME:EDT
DTSTART:20230312T070000
END:DAYLIGHT
BEGIN:STANDARD
TZOFFSETFROM:-0400
TZOFFSETTO:-0500
TZNAME:EST
DTSTART:20231105T060000
END:STANDARD
END:VTIMEZONE
BEGIN:VEVENT
DTSTART;TZID=America/New_York:20231203T083000
DTEND;TZID=America/New_York:20231203T093000
DTSTAMP:20260423T003446
CREATED:20231213T232922Z
LAST-MODIFIED:20231213T232924Z
UID:3329-1701592200-1701595800@www.ebenezerumchurch.org
SUMMARY:Worship
DESCRIPTION:DOWNLOAD THE SUNDAY BULLETIN HERE
URL:https://www.ebenezerumchurch.org/event/worship-9-3-2-2-3-2-2-2-2-2-2-2-2-2-2/
LOCATION:Winfield Community Volunteer Fire Department\, 1320 West Old Liberty Road\, Sykesville\, MD\, 21784\, United States
CATEGORIES:Worship Services
END:VEVENT
BEGIN:VEVENT
DTSTART;TZID=America/New_York:20231203T110000
DTEND;TZID=America/New_York:20231203T120000
DTSTAMP:20260423T003446
CREATED:20231213T232742Z
LAST-MODIFIED:20231213T232744Z
UID:3325-1701601200-1701604800@www.ebenezerumchurch.org
SUMMARY:Worship
DESCRIPTION:DOWNLOAD THE SUNDAY BULLETIN HERE \nSTREAM THE SERVICE HERE
URL:https://www.ebenezerumchurch.org/event/worship-9-3-2-2-2-2-2-2-2-2-2-2-2-2-2-2/
LOCATION:Winfield Community Volunteer Fire Department\, 1320 West Old Liberty Road\, Sykesville\, MD\, 21784\, United States
CATEGORIES:Worship Services
END:VEVENT
BEGIN:VEVENT
DTSTART;TZID=America/New_York:20231210T083000
DTEND;TZID=America/New_York:20231210T093000
DTSTAMP:20260423T003446
CREATED:20231213T233015Z
LAST-MODIFIED:20231213T233016Z
UID:3331-1702197000-1702200600@www.ebenezerumchurch.org
SUMMARY:Worship
DESCRIPTION:DOWNLOAD THE SUNDAY BULLETIN HERE
URL:https://www.ebenezerumchurch.org/event/worship-10-10/
LOCATION:Winfield Community Volunteer Fire Department\, 1320 West Old Liberty Road\, Sykesville\, MD\, 21784\, United States
CATEGORIES:Worship Services
END:VEVENT
BEGIN:VEVENT
DTSTART;TZID=America/New_York:20231210T110000
DTEND;TZID=America/New_York:20231210T120000
DTSTAMP:20260423T003446
CREATED:20231213T233138Z
LAST-MODIFIED:20231213T233140Z
UID:3335-1702206000-1702209600@www.ebenezerumchurch.org
SUMMARY:Worship
DESCRIPTION:DOWNLOAD THE SUNDAY BULLETIN HERE \nSTREAM THE SERVICE HERE
URL:https://www.ebenezerumchurch.org/event/worship-10-10-2/
LOCATION:Winfield Community Volunteer Fire Department\, 1320 West Old Liberty Road\, Sykesville\, MD\, 21784\, United States
CATEGORIES:Worship Services
END:VEVENT
BEGIN:VEVENT
DTSTART;TZID=America/New_York:20231217T083000
DTEND;TZID=America/New_York:20231217T093000
DTSTAMP:20260423T003446
CREATED:20231213T233213Z
LAST-MODIFIED:20231213T233227Z
UID:3337-1702801800-1702805400@www.ebenezerumchurch.org
SUMMARY:Worship
DESCRIPTION:DOWNLOAD THE SUNDAY BULLETIN HERE \n 
URL:https://www.ebenezerumchurch.org/event/worship-10-17/
LOCATION:Winfield Community Volunteer Fire Department\, 1320 West Old Liberty Road\, Sykesville\, MD\, 21784\, United States
CATEGORIES:Worship Services
END:VEVENT
BEGIN:VEVENT
DTSTART;TZID=America/New_York:20231217T110000
DTEND;TZID=America/New_York:20231217T120000
DTSTAMP:20260423T003446
CREATED:20231213T233335Z
LAST-MODIFIED:20231213T233339Z
UID:3342-1702810800-1702814400@www.ebenezerumchurch.org
SUMMARY:Worship
DESCRIPTION:DOWNLOAD THE SUNDAY BULLETIN HERE \nSTREAM THE SERVICE HERE
URL:https://www.ebenezerumchurch.org/event/worship-10-17-2/
LOCATION:Winfield Community Volunteer Fire Department\, 1320 West Old Liberty Road\, Sykesville\, MD\, 21784\, United States
CATEGORIES:Worship Services
END:VEVENT
BEGIN:VEVENT
DTSTART;TZID=America/New_York:20231224T110000
DTEND;TZID=America/New_York:20231224T120000
DTSTAMP:20260423T003446
CREATED:20231213T233548Z
LAST-MODIFIED:20231213T233550Z
UID:3344-1703415600-1703419200@www.ebenezerumchurch.org
SUMMARY:Worship
DESCRIPTION:DOWNLOAD THE SUNDAY BULLETIN HERE \nSTREAM THE SERVICE HERE
URL:https://www.ebenezerumchurch.org/event/worship-10-24/
LOCATION:Winfield Community Volunteer Fire Department\, 1320 West Old Liberty Road\, Sykesville\, MD\, 21784\, United States
CATEGORIES:Worship Services
ATTACH;FMTTYPE=image/png:https://www.ebenezerumchurch.org/wp-content/uploads/2023/12/Screenshot-2023-12-13-131519-1.png
END:VEVENT
BEGIN:VEVENT
DTSTART;TZID=America/New_York:20231231T110000
DTEND;TZID=America/New_York:20231231T120000
DTSTAMP:20260423T003446
CREATED:20231213T234319Z
LAST-MODIFIED:20231213T234322Z
UID:3353-1704020400-1704024000@www.ebenezerumchurch.org
SUMMARY:Worship
DESCRIPTION:DOWNLOAD THE SUNDAY BULLETIN HERE \nSTREAM THE SERVICE HERE
URL:https://www.ebenezerumchurch.org/event/worship-10-31/
LOCATION:Winfield Community Volunteer Fire Department\, 1320 West Old Liberty Road\, Sykesville\, MD\, 21784\, United States
CATEGORIES:Worship Services
ATTACH;FMTTYPE=image/png:https://www.ebenezerumchurch.org/wp-content/uploads/2023/12/Screenshot-2023-12-13-131519-1.png
END:VEVENT
END:VCALENDAR